Workbook
Name pick_benefits: 'Lista Selección'!$E$25:$F$32
Name pick_cost: 'Lista Selección'!$E$15:$F$22
Name pick_ease: 'Lista Selección'!$E$35:$F$42
Name pick_man: 'Lista Selección'!$E$5:$F$12
Name pick_risk: 'Lista Selección'!$E$45:$F$52

Sheet Instrucciones
B2: Herramienta para Priorización de Proyectos de Transformación Digital
B3: Herramienta Creada por Néstor Altuve - © 2021 - altuvenestor@gmail.com
B4: fuente: dpc.sa.gov.au
B6: Instrucciones:
B7: Esta herramienta contiene 8 Hojas: | D7: - | E7: En la Hoja #1 colacar proyectos, descripción
B8: 1 | C8: Instrucciones | E8: y observaciones
B9: 2 | C9: Info Proyectos | D9: - | E9: En la Hoja #2 puntuar los proyectos de acuerdo
B10: 3 | C10: Puntuación Proyectos | E10: con los criterios allí indicados
B11: 4 | C11: Ranking Proyectos | D11: - | E11: Las demás hojas incluye el resultado de la
B12: 5 | C12: Scorecard Proyectos | E12: evaluación (cuadros y gráficos)
B13: 6 | C13: Gráfico Ranking | D13: - | E13: Se peden incluir hasta 10 proyectos de
B14: 7 | C14: Gráfico Desgloce | E14: transformación digital
B15: 8 | C15: Gráfico Priorización | D15: - | E15: Se puede imprimir y/o PDF de cualquier Hoja

Sheet Info Proyectos
A1: Categoría | B1: Id | C1: Proyectos | D1: Descripción | E1: Observaciones
B2: 1 | C2: Proyecto 1
B3: 2 | C3: Proyecto 2
B4: 3 | C4: Proyecto 3
B5: 4 | C5: Proyecto 4
B6: 5 | C6: Proyecto 5
B7: 6 | C7: Proyecto 6
B8: 7 | C8: Proyecto 7
B9: 8 | C9: Proyecto 8
B10: 9 | C10: Proyecto 9
B11: 10 | C11: Proyecto 10

Sheet Puntuación Proyectos
B1: Proyectos de Transformación Digital Herramienta de Priorización | D1: Original: Néstor Altuve Version 1.0 fuente: dpc.sa.gov.au | E1: Empresa XYZ
E2: 4 | F2: 5 | G2: 6 | H2: 7 | I2: 8 | J2: 9 | K2: 10 | L2: 11 | M2: 12 | N2: 13 | O2: 14 | P2: 15 | Q2: 16 | R2: 17 | S2: 18 | T2: 19 | U2: 20 | V2: 21 | W2: 22 | X2: 23 | Y2: 24 | Z2: 25 | AA2: 26 | AB2: 27 | AC2: 28 | AD2: 29 | AE2: 30 | AF2: 31 | AG2: 32 | AH2: 33 | AI2: 34 | AJ2: 35 | AK2: 36 | AL2: 37 | AM2: 38 | AN2: 39 | AO2: 40 | AP2: 41 | AQ2: 42 | AR2: 43 | AS2: 44 | AT2: 45 | AU2: 46 | AV2: 47 | AW2: 48 | AX2: 49 | AY2: 50 | AZ2: 51 | BA2: 52 | BB2: 53 | BC2: 54 | BD2: 55 | BE2: 56 | BF2: 57 | BG2: 58 | BH2: 59 | BI2: 60 | BJ2: 61 | BK2: 62 | BL2: 63 | BM2: 64 | BN2: 65 | BO2: 66 | BP2: 67 | BQ2: 68 | BR2: 69 | BS2: 70 | BT2: 71 | BU2: 72 | BV2: 73 | BW2: 74 | BX2: 75 | BY2: 76 | BZ2: 77 | CA2: 78 | CB2: 79 | CC2: 80 | CD2: 81 | CE2: 82 | CF2: 83 | CG2: 84 | CH2: 85 | CI2: 86 | CJ2: 87 | CK2: 88 | CL2: 89 | CM2: 90 | CN2: 91 | CO2: 92 | CP2: 93 | CQ2: 94 | CR2: 95 | CS2: 96 | CT2: 97 | CU2: 98 | CV2: 99 | CW2: 100
B3: Criterios de Selección | D3: Importancia: 3 = Más 2 = Media 1= Menos | E3: =OFFSET('Info Proyectos'!$C$2,'Puntuación Proyectos'!E2-4,0) -> Proyecto 1 | F3: =OFFSET('Info Proyectos'!$C$2,'Puntuación Proyectos'!F2-4,0) -> Proyecto 2 | G3: =OFFSET('Info Proyectos'!$C$2,'Puntuación Proyectos'!G2-4,0) -> Proyecto 3 | H3: =OFFSET('Info Proyectos'!$C$2,'Puntuación Proyectos'!H2-4,0) -> Proyecto 4 | I3: =OFFSET('Info Proyectos'!$C$2,'Puntuación Proyectos'!I2-4,0) -> Proyecto 5 | J3: =OFFSET('Info Proyectos'!$C$2,'Puntuación Proyectos'!J2-4,0) -> Proyecto 6 | K3: =OFFSET('Info Proyectos'!$C$2,'Puntuación Proyectos'!K2-4,0) -> Proyecto 7 | L3: =OFFSET('Info Proyectos'!$C$2,'Puntuación Proyectos'!L2-4,0) -> Proyecto 8 | ... CW3: =OFFSET('Info Proyectos'!$C$2,'Puntuación Proyectos'!CW2-4,0) -> 0
E4: =OFFSET('Info Proyectos'!$A$2,'Puntuación Proyectos'!E2-4,0) -> 0 | F4: =OFFSET('Info Proyectos'!$A$2,'Puntuación Proyectos'!F2-4,0) -> 0 | G4: =OFFSET('Info Proyectos'!$A$2,'Puntuación Proyectos'!G2-4,0) -> 0 | H4: =OFFSET('Info Proyectos'!$A$2,'Puntuación Proyectos'!H2-4,0) -> 0 | I4: =OFFSET('Info Proyectos'!$A$2,'Puntuación Proyectos'!I2-4,0) -> 0 | J4: =OFFSET('Info Proyectos'!$A$2,'Puntuación Proyectos'!J2-4,0) -> 0 | K4: =OFFSET('Info Proyectos'!$A$2,'Puntuación Proyectos'!K2-4,0) -> 0 | L4: =OFFSET('Info Proyectos'!$A$2,'Puntuación Proyectos'!L2-4,0) -> 0 | ... CW4: =OFFSET('Info Proyectos'!$A$2,'Puntuación Proyectos'!CW2-4,0) -> 0
B5: Mandatorio
B6: El proyecto entrega un producto/servicio nuevo o transformado | D6: N/A | E6: Si | F6: Si | G6: Si | H6: Si | I6: Si | J6: Si | K6: Si | L6: Si | M6: Si | N6: Si
B7: El proyecto está totalmente alineado con la estrategia del negocio | D7: N/A | E7: Si | F7: Si | G7: Si | H7: Si | I7: Si | J7: Si | K7: Si | L7: Si | M7: Si | N7: Si
B8: El proyecto está totalmente alineado con la estrategia digital | D8: N/A | E8: Si | F8: Si | G8: Si | H8: Si | I8: Si | J8: Si | K8: Si | L8: Si | M8: Si | N8: Si
B9: El proyecto cuenta con el compromiso de la alta dirección | D9: N/A | E9: Si | F9: Si | G9: Si | H9: Si | I9: Si | J9: Si | K9: Si | L9: Si | M9: Si | N9: Si
B14: Costo
B15: Inversión requerida para desarrollar el proyecto | D15: 1 | E15: Medio | F15: Alto | G15: Medio | H15: Medio | I15: Medio | J15: Alto | K15: Alto | L15: Medio | M15: Medio | N15: Medio
B16: Nivel de gastos operativos que requerirá el proyecto una vez desarrollado | D16: 1 | E16: Bajo | F16: Medio | G16: Bajo | H16: Bajo | I16: Medio | J16: Medio | K16: Alto | L16: Medio | M16: Bajo | N16: Bajo
B23: Beneficio
B24: Grado en el que cumple con las expectativas y necesidades de los clientes. | C24: =$C$23 -> 0 | D24: 3 | E24: Alto | F24: Alto | G24: Alto | H24: Medio | I24: Alto | J24: Alto | K24: Medio | L24: Medio | M24: Alto | N24: Alto
B25: Grado en el que mejora la productividad organizacional | C25: =$C$23 -> 0 | D25: 3 | E25: Alto | F25: Alto | G25: Alto | H25: Alto | I25: Medio | J25: Alto | K25: Alto | L25: Bajo | M25: Medio | N25: Medio
B26: Grado en el que reduce costos y gastos | C26: =$C$23 -> 0 | D26: 2 | E26: Alto | F26: Alto | G26: Bajo | H26: Alto | I26: Medio | J26: Alto | K26: Alto | L26: Medio | M26: Alto | N26: Medio
B27: Nivel de beneficio para colaborares y grupos de interés | C27: =$C$23 -> 0 | D27: 1 | E27: Alto | F27: Alto | G27: Alto | H27: Medio | I27: Medio | J27: Alto | K27: Alto | L27: Bajo | M27: Medio | N27: Medio
B32: Facilidad de Ejecución
B33: Complejidad en la reingeniería y/o creación de los procesos de negocio | C33: =$C$32 -> 0 | D33: 3 | E33: Media | F33: Media | G33: Fácil | H33: Fácil | I33: Fácil | J33: Difícil | K33: Difícil | L33: Fácil | M33: Media | N33: Difícil
B34: Facilidad para asegurar el presupuesto y los recursos para la transformación digital | C34: =$C$32 -> 0 | D34: 2 | E34: Media | F34: Fácil | G34: Fácil | H34: Fácil | I34: Media | J34: Media | K34: Difícil | L34: Media | M34: Fácil | N34: Media
B35: Facilidad para asegurar las competencias y habilidades de los colaboradores | C35: =$C$32 -> 0 | D35: 2 | E35: Fácil | F35: Fácil | G35: Fácil | H35: Fácil | I35: Fácil | J35: Media | K35: Media | L35: Fácil | M35: Media | N35: Fácil
B36: Gestión de cambio necesaria para garantizar el compromiso de los colaboradores | C36: =$C$32 -> 0 | D36: 2 | E36: Fácil | F36: Media | G36: Fácil | H36: Fácil | I36: Media | J36: Fácil | K36: Difícil | L36: Fácil | M36: Media | N36: Media
B37: Respaldar la preparación de la infraestructura y los sistemas (TIC's) | C37: =$C$32 -> 0 | D37: 3 | E37: Fácil | F37: Media | G37: Media | H37: Media | I37: Media | J37: Media | K37: Media | L37: Fácil | M37: Fácil | N37: Media
B38: Facilidad para trabajar varios proyectos interdependientes a la vez | C38: =$C$32 -> 0 | D38: 2 | E38: Media | F38: Difícil | G38: Media | H38: Fácil | I38: Fácil | J38: Difícil | K38: Difícil | L38: Fácil | M38: Fácil | N38: Media
B41: Riesgo
B42: Operacional: Impacto negativo en las operaciones diarias | C42: =$C$41 -> 0 | D42: 2 | E42: Alto | F42: Bajo | G42: Alto | H42: Bajo | I42: Bajo | J42: Alto | K42: Alto | L42: Bajo | M42: Bajo | N42: Medio
B43: Resultados del proyecto: Consecuencias inciertas y éxito difícil de medir | D43: 1 | E43: Medio | F43: Bajo | G43: Medio | H43: Bajo | I43: Alto | J43: Bajo | K43: Alto | L43: Bajo | M43: Bajo | N43: Medio
B44: Reputacional: No aceptado por la organización, falla o no cumple con sus KPI's | C44: =$C$41 -> 0 | D44: 3 | E44: Medio | F44: Medio | G44: Alto | H44: Medio | I44: Alto | J44: Alto | K44: Medio | L44: Medio | M44: Bajo | N44: Bajo
B45: Financiero: Costo del capital y/o gasto operacional | C45: =$C$41 -> 0 | D45: 3 | E45: Bajo | F45: Bajo | G45: Bajo | H45: Bajo | I45: Bajo | J45: Bajo | K45: Medio | L45: Bajo | M45: Bajo | N45: Bajo
B46: Organizacional: Riesgo para el gobierno y la gestión interna | C46: =$C$41 -> 0 | D46: 2 | E46: Bajo | F46: Bajo | G46: Bajo | H46: Bajo | I46: Bajo | J46: Medio | K46: Medio | L46: Bajo | M46: Medio | N46: Medio
B50: Test Mandatorio | E50: =IF('Scorecard Proyectos'!E30=0,"Positivo", "Negativo") -> Positivo | F50: =IF('Scorecard Proyectos'!F30=0,"Positivo", "Negativo") -> Positivo | G50: =IF('Scorecard Proyectos'!G30=0,"Positivo", "Negativo") -> Positivo | H50: =IF('Scorecard Proyectos'!H30=0,"Positivo", "Negativo") -> Positivo | I50: =IF('Scorecard Proyectos'!I30=0,"Positivo", "Negativo") -> Positivo | J50: =IF('Scorecard Proyectos'!J30=0,"Positivo", "Negativo") -> Positivo | K50: =IF('Scorecard Proyectos'!K30=0,"Positivo", "Negativo") -> Positivo | L50: =IF('Scorecard Proyectos'!L30=0,"Positivo", "Negativo") -> Positivo | ... N50: =IF('Scorecard Proyectos'!N30=0,"Positivo", "Negativo") -> Positivo | O50: =IF('Scorecard Proyectos'!O30=0,"Pass", "fail") -> Pass | P50: =IF('Scorecard Proyectos'!P30=0,"Pass", "fail") -> Pass | Q50: =IF('Scorecard Proyectos'!Q30=0,"Pass", "fail") -> Pass | R50: =IF('Scorecard Proyectos'!R30=0,"Pass", "fail") -> Pass | S50: =IF('Scorecard Proyectos'!S30=0,"Pass", "fail") -> Pass | T50: =IF('Scorecard Proyectos'!T30=0,"Pass", "fail") -> Pass | U50: =IF('Scorecard Proyectos'!U30=0,"Pass", "fail") -> Pass | V50: =IF('Scorecard Proyectos'!V30=0,"Pass", "fail") -> Pass | ... CW50: =IF('Scorecard Proyectos'!CW30=0,"Pass", "fail") -> Pass
B52: Costo | E52: =+'Scorecard Proyectos'!E32 -> 1.5 | F52: =+'Scorecard Proyectos'!F32 -> -1.5 | G52: =+'Scorecard Proyectos'!G32 -> 1.5 | H52: =+'Scorecard Proyectos'!H32 -> 1.5 | I52: =+'Scorecard Proyectos'!I32 -> 0 | J52: =+'Scorecard Proyectos'!J32 -> -1.5 | K52: =+'Scorecard Proyectos'!K32 -> -3 | L52: =+'Scorecard Proyectos'!L32 -> 0 | ... N52: =+'Scorecard Proyectos'!N32 -> 1.5 | O52: ='Scorecard Proyectos'!O32 -> 0 | P52: ='Scorecard Proyectos'!P32 -> 0 | Q52: ='Scorecard Proyectos'!Q32 -> 0 | R52: ='Scorecard Proyectos'!R32 -> 0 | S52: ='Scorecard Proyectos'!S32 -> 0 | T52: ='Scorecard Proyectos'!T32 -> 0 | U52: ='Scorecard Proyectos'!U32 -> 0 | V52: ='Scorecard Proyectos'!V32 -> 0 | ... CW52: ='Scorecard Proyectos'!CW32 -> 0
B54: Beneficio | E54: =+'Scorecard Proyectos'!E34 -> 13.5 | F54: =+'Scorecard Proyectos'!F34 -> 13.5 | G54: =+'Scorecard Proyectos'!G34 -> 7.5 | H54: =+'Scorecard Proyectos'!H34 -> 7.5 | I54: =+'Scorecard Proyectos'!I34 -> 4.5 | J54: =+'Scorecard Proyectos'!J34 -> 13.5 | K54: =+'Scorecard Proyectos'!K34 -> 9 | L54: =+'Scorecard Proyectos'!L34 -> -6 | ... N54: =+'Scorecard Proyectos'!N34 -> 4.5 | O54: ='Scorecard Proyectos'!O34 -> 0 | P54: ='Scorecard Proyectos'!P34 -> 0 | Q54: ='Scorecard Proyectos'!Q34 -> 0 | R54: ='Scorecard Proyectos'!R34 -> 0 | S54: ='Scorecard Proyectos'!S34 -> 0 | T54: ='Scorecard Proyectos'!T34 -> 0 | U54: ='Scorecard Proyectos'!U34 -> 0 | V54: ='Scorecard Proyectos'!V34 -> 0 | ... CW54: ='Scorecard Proyectos'!CW34 -> 0
B55: Facilidad de Ejecución | E55: =+'Scorecard Proyectos'!E35 -> 10.5 | F55: =+'Scorecard Proyectos'!F35 -> 3 | G55: =+'Scorecard Proyectos'!G35 -> 13.5 | H55: =+'Scorecard Proyectos'!H35 -> 16.5 | I55: =+'Scorecard Proyectos'!I35 -> 10.5 | J55: =+'Scorecard Proyectos'!J35 -> -4.5 | K55: =+'Scorecard Proyectos'!K35 -> -13.5 | L55: =+'Scorecard Proyectos'!L35 -> 18 | ... N55: =+'Scorecard Proyectos'!N35 -> -1.5 | O55: ='Scorecard Proyectos'!O35 -> 0 | P55: ='Scorecard Proyectos'!P35 -> 0 | Q55: ='Scorecard Proyectos'!Q35 -> 0 | R55: ='Scorecard Proyectos'!R35 -> 0 | S55: ='Scorecard Proyectos'!S35 -> 0 | T55: ='Scorecard Proyectos'!T35 -> 0 | U55: ='Scorecard Proyectos'!U35 -> 0 | V55: ='Scorecard Proyectos'!V35 -> 0 | ... CW55: ='Scorecard Proyectos'!CW35 -> 0
B56: Nivel de Riesgo | E56: =+'Scorecard Proyectos'!E36 -> 9.5 | F56: =+'Scorecard Proyectos'!F36 -> 7 | G56: =+'Scorecard Proyectos'!G36 -> 11 | H56: =+'Scorecard Proyectos'!H36 -> 7 | I56: =+'Scorecard Proyectos'!I36 -> 9.5 | J56: =+'Scorecard Proyectos'!J36 -> 11.5 | K56: =+'Scorecard Proyectos'!K36 -> 12.5 | L56: =+'Scorecard Proyectos'!L36 -> 7 | ... N56: =+'Scorecard Proyectos'!N36 -> 8 | O56: ='Scorecard Proyectos'!O36 -> 0 | P56: ='Scorecard Proyectos'!P36 -> 0 | Q56: ='Scorecard Proyectos'!Q36 -> 0 | R56: ='Scorecard Proyectos'!R36 -> 0 | S56: ='Scorecard Proyectos'!S36 -> 0 | T56: ='Scorecard Proyectos'!T36 -> 0 | U56: ='Scorecard Proyectos'!U36 -> 0 | V56: ='Scorecard Proyectos'!V36 -> 0 | ... CW56: ='Scorecard Proyectos'!CW36 -> 0
B57: Total Evaluación de Proyectos = (costo+beneficio+ejecución) - riesgo | E57: =+E52+E54+E55-E56 -> 16 | F57: =+F52+F54+F55-F56 -> 8 | G57: =+G52+G54+G55-G56 -> 11.5 | H57: =+H52+H54+H55-H56 -> 18.5 | I57: =+I52+I54+I55-I56 -> 5.5 | J57: =+J52+J54+J55-J56 -> -4 | K57: =+K52+K54+K55-K56 -> -20 | L57: =+L52+L54+L55-L56 -> 5 | ... CW57: =+CW52+CW54+CW55-CW56 -> 0
B60: Notas:
B61: Niveles de importancia en categorías clave entre sí: 1 = menos importancia 2 = media importancia 3 = más importancia
B63: Si al menos uno de los criterios mandatorios en un proyecto tiene una calificación de NO, debe ser reevaluado o descartado, inclusive si su evaluación (costo+beneficio+ejecución-riesgo) es positivo y esta bien rankeado

Sheet Ranking Proyectos
A1: Proyecto | B1: Puntuación Total
A2: ='Info Proyectos'!C5 -> Proyecto 4 | B2: ='Scorecard Proyectos'!H37 -> 18.5
A3: ='Info Proyectos'!C2 -> Proyecto 1 | B3: ='Scorecard Proyectos'!E$37 -> 16
A4: ='Info Proyectos'!C10 -> Proyecto 9 | B4: ='Scorecard Proyectos'!M37 -> 13
A5: ='Info Proyectos'!C4 -> Proyecto 3 | B5: ='Scorecard Proyectos'!G37 -> 11.5
A6: ='Info Proyectos'!C3 -> Proyecto 2 | B6: ='Scorecard Proyectos'!F37 -> 8
A7: ='Info Proyectos'!C6 -> Proyecto 5 | B7: ='Scorecard Proyectos'!I37 -> 5.5
A8: ='Info Proyectos'!C9 -> Proyecto 8 | B8: ='Scorecard Proyectos'!L37 -> 5
A9: ='Info Proyectos'!C11 -> Proyecto 10 | B9: ='Scorecard Proyectos'!N37 -> -3.5
A10: ='Info Proyectos'!C7 -> Proyecto 6 | B10: ='Scorecard Proyectos'!J37 -> -4
A11: ='Info Proyectos'!C8 -> Proyecto 7 | B11: ='Scorecard Proyectos'!K37 -> -20
A28: ='Scorecard Proyectos'!B2 -> Criterios de Selección | B28: ='Scorecard Proyectos'!B32 -> Costo | C28: ='Scorecard Proyectos'!B34 -> Beneficio | D28: ='Scorecard Proyectos'!B35 -> Facilidad de Ejecución | E28: ='Scorecard Proyectos'!B36 -> Nivel de Riesgo | F28: ='Scorecard Proyectos'!B37 -> Total Evaluación de Proyectos = (costo+beneficio+ejecución) - riesgo
A29: ='Scorecard Proyectos'!H2 -> Proyecto 4 | B29: ='Scorecard Proyectos'!H32 -> 1.5 | C29: ='Scorecard Proyectos'!H34 -> 7.5 | D29: ='Scorecard Proyectos'!H35 -> 16.5 | E29: ='Scorecard Proyectos'!H36 -> 7 | F29: ='Scorecard Proyectos'!H37 -> 18.5
A30: ='Scorecard Proyectos'!E2 -> Proyecto 1 | B30: ='Scorecard Proyectos'!E32 -> 1.5 | C30: ='Scorecard Proyectos'!E34 -> 13.5 | D30: ='Scorecard Proyectos'!E35 -> 10.5 | E30: ='Scorecard Proyectos'!E36 -> 9.5 | F30: ='Scorecard Proyectos'!E37 -> 16
A31: ='Scorecard Proyectos'!M2 -> Proyecto 9 | B31: ='Scorecard Proyectos'!M32 -> 1.5 | C31: ='Scorecard Proyectos'!M34 -> 7.5 | D31: ='Scorecard Proyectos'!M35 -> 10.5 | E31: ='Scorecard Proyectos'!M36 -> 6.5 | F31: ='Scorecard Proyectos'!M37 -> 13
A32: ='Scorecard Proyectos'!G2 -> Proyecto 3 | B32: ='Scorecard Proyectos'!G32 -> 1.5 | C32: ='Scorecard Proyectos'!G34 -> 7.5 | D32: ='Scorecard Proyectos'!G35 -> 13.5 | E32: ='Scorecard Proyectos'!G36 -> 11 | F32: ='Scorecard Proyectos'!G37 -> 11.5
A33: ='Scorecard Proyectos'!F2 -> Proyecto 2 | B33: ='Scorecard Proyectos'!F32 -> -1.5 | C33: ='Scorecard Proyectos'!F34 -> 13.5 | D33: ='Scorecard Proyectos'!F35 -> 3 | E33: ='Scorecard Proyectos'!F36 -> 7 | F33: ='Scorecard Proyectos'!F37 -> 8
A34: ='Scorecard Proyectos'!I2 -> Proyecto 5 | B34: ='Scorecard Proyectos'!I32 -> 0 | C34: ='Scorecard Proyectos'!I34 -> 4.5 | D34: ='Scorecard Proyectos'!I35 -> 10.5 | E34: ='Scorecard Proyectos'!I36 -> 9.5 | F34: ='Scorecard Proyectos'!I37 -> 5.5
A35: ='Scorecard Proyectos'!L2 -> Proyecto 8 | B35: ='Scorecard Proyectos'!L32 -> 0 | C35: ='Scorecard Proyectos'!L34 -> -6 | D35: ='Scorecard Proyectos'!L35 -> 18 | E35: ='Scorecard Proyectos'!L36 -> 7 | F35: ='Scorecard Proyectos'!L37 -> 5
A36: ='Scorecard Proyectos'!N2 -> Proyecto 10 | B36: ='Scorecard Proyectos'!N32 -> 1.5 | C36: ='Scorecard Proyectos'!N34 -> 4.5 | D36: ='Scorecard Proyectos'!N35 -> -1.5 | E36: ='Scorecard Proyectos'!N36 -> 8 | F36: ='Scorecard Proyectos'!N37 -> -3.5
A37: ='Scorecard Proyectos'!J2 -> Proyecto 6 | B37: ='Scorecard Proyectos'!J32 -> -1.5 | C37: ='Scorecard Proyectos'!J34 -> 13.5 | D37: ='Scorecard Proyectos'!J35 -> -4.5 | E37: ='Scorecard Proyectos'!J36 -> 11.5 | F37: ='Scorecard Proyectos'!J37 -> -4
A38: ='Scorecard Proyectos'!K2 -> Proyecto 7 | B38: ='Scorecard Proyectos'!K32 -> -3 | C38: ='Scorecard Proyectos'!K34 -> 9 | D38: ='Scorecard Proyectos'!K35 -> -13.5 | E38: ='Scorecard Proyectos'!K36 -> 12.5 | F38: ='Scorecard Proyectos'!K37 -> -20

Sheet Scorecard Proyectos
B1: ='Puntuación Proyectos'!B2 -> 0 | C1: ='Puntuación Proyectos'!C2 -> 0 | D1: ='Puntuación Proyectos'!D2 -> 0 | E1: ='Puntuación Proyectos'!E2 -> 4 | F1: ='Puntuación Proyectos'!F2 -> 5 | G1: ='Puntuación Proyectos'!G2 -> 6 | H1: ='Puntuación Proyectos'!H2 -> 7 | I1: ='Puntuación Proyectos'!I2 -> 8 | ... CW1: ='Puntuación Proyectos'!CW2 -> 100
B2: ='Puntuación Proyectos'!B3 -> Criterios de Selección | C2: ='Puntuación Proyectos'!C3 -> 0 | D2: ='Puntuación Proyectos'!D3 -> Importancia: 3 = Más 2 = Media 1= Menos | E2: ='Puntuación Proyectos'!E3 -> Proyecto 1 | F2: ='Puntuación Proyectos'!F3 -> Proyecto 2 | G2: ='Puntuación Proyectos'!G3 -> Proyecto 3 | H2: ='Puntuación Proyectos'!H3 -> Proyecto 4 | I2: ='Puntuación Proyectos'!I3 -> Proyecto 5 | ... CW2: ='Puntuación Proyectos'!CW3 -> 0
B3: ='Puntuación Proyectos'!B5 -> Mandatorio
B4: =IF('Puntuación Proyectos'!B6="","",'Puntuación Proyectos'!B6) -> El proyecto entrega un producto/servicio nuevo o transformado | C4: ='Puntuación Proyectos'!C10 -> 0 | D4: ='Puntuación Proyectos'!D6 -> N/A | E4: =IFERROR(VLOOKUP('Puntuación Proyectos'!E6,pick_man,2,FALSE),"") -> 0 | F4: =IFERROR(VLOOKUP('Puntuación Proyectos'!F6,pick_man,2,FALSE),"") -> 0 | G4: =IFERROR(VLOOKUP('Puntuación Proyectos'!G6,pick_man,2,FALSE),"") -> 0 | H4: =IFERROR(VLOOKUP('Puntuación Proyectos'!H6,pick_man,2,FALSE),"") -> 0 | I4: =IFERROR(VLOOKUP('Puntuación Proyectos'!I6,pick_man,2,FALSE),"") -> 0 | J4: =IFERROR(VLOOKUP('Puntuación Proyectos'!J6,pick_man,2,FALSE),"") -> 0 | K4: =IFERROR(VLOOKUP('Puntuación Proyectos'!K6,pick_man,2,FALSE),"") -> 0 | L4: =IFERROR(VLOOKUP('Puntuación Proyectos'!L6,pick_man,2,FALSE),"") -> 0 | ... CW4: =IFERROR(VLOOKUP('Puntuación Proyectos'!CW6,pick_man,2,FALSE),"")
B5: =IF('Puntuación Proyectos'!B7="","",'Puntuación Proyectos'!B7) -> El proyecto está totalmente alineado con la estrategia del negocio | C5: ='Puntuación Proyectos'!C11 -> 0 | D5: ='Puntuación Proyectos'!D7 -> N/A | E5: =IFERROR(VLOOKUP('Puntuación Proyectos'!E7,pick_man,2,FALSE),"") -> 0 | F5: =IFERROR(VLOOKUP('Puntuación Proyectos'!F7,pick_man,2,FALSE),"") -> 0 | G5: =IFERROR(VLOOKUP('Puntuación Proyectos'!G7,pick_man,2,FALSE),"") -> 0 | H5: =IFERROR(VLOOKUP('Puntuación Proyectos'!H7,pick_man,2,FALSE),"") -> 0 | I5: =IFERROR(VLOOKUP('Puntuación Proyectos'!I7,pick_man,2,FALSE),"") -> 0 | J5: =IFERROR(VLOOKUP('Puntuación Proyectos'!J7,pick_man,2,FALSE),"") -> 0 | K5: =IFERROR(VLOOKUP('Puntuación Proyectos'!K7,pick_man,2,FALSE),"") -> 0 | L5: =IFERROR(VLOOKUP('Puntuación Proyectos'!L7,pick_man,2,FALSE),"") -> 0 | ... CW5: =IFERROR(VLOOKUP('Puntuación Proyectos'!CW7,pick_man,2,FALSE),"")
B6: =IF('Puntuación Proyectos'!B8="","",'Puntuación Proyectos'!B8) -> El proyecto está totalmente alineado con la estrategia digital | C6: ='Puntuación Proyectos'!C12 -> 0 | D6: ='Puntuación Proyectos'!D8 -> N/A | E6: =IFERROR(VLOOKUP('Puntuación Proyectos'!E8,pick_man,2,FALSE),"") -> 0 | F6: =IFERROR(VLOOKUP('Puntuación Proyectos'!F8,pick_man,2,FALSE),"") -> 0 | G6: =IFERROR(VLOOKUP('Puntuación Proyectos'!G8,pick_man,2,FALSE),"") -> 0 | H6: =IFERROR(VLOOKUP('Puntuación Proyectos'!H8,pick_man,2,FALSE),"") -> 0 | I6: =IFERROR(VLOOKUP('Puntuación Proyectos'!I8,pick_man,2,FALSE),"") -> 0 | J6: =IFERROR(VLOOKUP('Puntuación Proyectos'!J8,pick_man,2,FALSE),"") -> 0 | K6: =IFERROR(VLOOKUP('Puntuación Proyectos'!K8,pick_man,2,FALSE),"") -> 0 | L6: =IFERROR(VLOOKUP('Puntuación Proyectos'!L8,pick_man,2,FALSE),"") -> 0 | ... CW6: =IFERROR(VLOOKUP('Puntuación Proyectos'!CW8,pick_man,2,FALSE),"")
B7: =IF('Puntuación Proyectos'!B9="","",'Puntuación Proyectos'!B9) -> El proyecto cuenta con el compromiso de la alta dirección | C7: ='Puntuación Proyectos'!C13 -> 0 | D7: ='Puntuación Proyectos'!D9 -> N/A | E7: =IFERROR(VLOOKUP('Puntuación Proyectos'!E9,pick_man,2,FALSE),"") -> 0 | F7: =IFERROR(VLOOKUP('Puntuación Proyectos'!F9,pick_man,2,FALSE),"") -> 0 | G7: =IFERROR(VLOOKUP('Puntuación Proyectos'!G9,pick_man,2,FALSE),"") -> 0 | H7: =IFERROR(VLOOKUP('Puntuación Proyectos'!H9,pick_man,2,FALSE),"") -> 0 | I7: =IFERROR(VLOOKUP('Puntuación Proyectos'!I9,pick_man,2,FALSE),"") -> 0 | J7: =IFERROR(VLOOKUP('Puntuación Proyectos'!J9,pick_man,2,FALSE),"") -> 0 | K7: =IFERROR(VLOOKUP('Puntuación Proyectos'!K9,pick_man,2,FALSE),"") -> 0 | L7: =IFERROR(VLOOKUP('Puntuación Proyectos'!L9,pick_man,2,FALSE),"") -> 0 | ... CW7: =IFERROR(VLOOKUP('Puntuación Proyectos'!CW9,pick_man,2,FALSE),"")
B8: =IF('Puntuación Proyectos'!B14="","",'Puntuación Proyectos'!B14) -> Costo
B9: =IF('Puntuación Proyectos'!B15="","",'Puntuación Proyectos'!B15) -> Inversión requerida para desarrollar el proyecto | C9: ='Puntuación Proyectos'!C15 -> 0 | D9: ='Puntuación Proyectos'!D15 -> 1 | E9: =IFERROR(VLOOKUP('Puntuación Proyectos'!E15,pick_cost,2,FALSE)*$D9,"") -> 0 | F9: =IFERROR(VLOOKUP('Puntuación Proyectos'!F15,pick_cost,2,FALSE)*$D9,"") -> -1.5 | G9: =IFERROR(VLOOKUP('Puntuación Proyectos'!G15,pick_cost,2,FALSE)*$D9,"") -> 0 | H9: =IFERROR(VLOOKUP('Puntuación Proyectos'!H15,pick_cost,2,FALSE)*$D9,"") -> 0 | I9: =IFERROR(VLOOKUP('Puntuación Proyectos'!I15,pick_cost,2,FALSE)*$D9,"") -> 0 | J9: =IFERROR(VLOOKUP('Puntuación Proyectos'!J15,pick_cost,2,FALSE)*$D9,"") -> -1.5 | K9: =IFERROR(VLOOKUP('Puntuación Proyectos'!K15,pick_cost,2,FALSE)*$D9,"") -> -1.5 | L9: =IFERROR(VLOOKUP('Puntuación Proyectos'!L15,pick_cost,2,FALSE)*$D9,"") -> 0 | ... CW9: =IFERROR(VLOOKUP('Puntuación Proyectos'!CW15,pick_cost,2,FALSE)*$D9,"")
B10: =IF('Puntuación Proyectos'!B16="","",'Puntuación Proyectos'!B16) -> Nivel de gastos operativos que requerirá el proyecto una vez desarrollado | C10: ='Puntuación Proyectos'!C16 -> 0 | D10: ='Puntuación Proyectos'!D16 -> 1 | E10: =IFERROR(VLOOKUP('Puntuación Proyectos'!E16,pick_cost,2,FALSE)*$D10,"") -> 1.5 | F10: =IFERROR(VLOOKUP('Puntuación Proyectos'!F16,pick_cost,2,FALSE)*$D10,"") -> 0 | G10: =IFERROR(VLOOKUP('Puntuación Proyectos'!G16,pick_cost,2,FALSE)*$D10,"") -> 1.5 | H10: =IFERROR(VLOOKUP('Puntuación Proyectos'!H16,pick_cost,2,FALSE)*$D10,"") -> 1.5 | I10: =IFERROR(VLOOKUP('Puntuación Proyectos'!I16,pick_cost,2,FALSE)*$D10,"") -> 0 | J10: =IFERROR(VLOOKUP('Puntuación Proyectos'!J16,pick_cost,2,FALSE)*$D10,"") -> 0 | K10: =IFERROR(VLOOKUP('Puntuación Proyectos'!K16,pick_cost,2,FALSE)*$D10,"") -> -1.5 | L10: =IFERROR(VLOOKUP('Puntuación Proyectos'!L16,pick_cost,2,FALSE)*$D10,"") -> 0 | ... CW10: =IFERROR(VLOOKUP('Puntuación Proyectos'!CW16,pick_cost,2,FALSE)*$D10,"")
B11: =IF('Puntuación Proyectos'!B17="","",'Puntuación Proyectos'!B17) | E11: =IFERROR(VLOOKUP('Puntuación Proyectos'!E17,pick_cost,2,FALSE)*$D11,"") | F11: =IFERROR(VLOOKUP('Puntuación Proyectos'!F17,pick_cost,2,FALSE)*$D11,"") | G11: =IFERROR(VLOOKUP('Puntuación Proyectos'!G17,pick_cost,2,FALSE)*$D11,"") | H11: =IFERROR(VLOOKUP('Puntuación Proyectos'!H17,pick_cost,2,FALSE)*$D11,"") | I11: =IFERROR(VLOOKUP('Puntuación Proyectos'!I17,pick_cost,2,FALSE)*$D11,"") | J11: =IFERROR(VLOOKUP('Puntuación Proyectos'!J17,pick_cost,2,FALSE)*$D11,"") | K11: =IFERROR(VLOOKUP('Puntuación Proyectos'!K17,pick_cost,2,FALSE)*$D11,"") | L11: =IFERROR(VLOOKUP('Puntuación Proyectos'!L17,pick_cost,2,FALSE)*$D11,"") | ... CW11: =IFERROR(VLOOKUP('Puntuación Proyectos'!CW17,pick_cost,2,FALSE)*$D11,"")
B12: =IF('Puntuación Proyectos'!B23="","",'Puntuación Proyectos'!B23) -> Beneficio
B13: =IF('Puntuación Proyectos'!B24="","",'Puntuación Proyectos'!B24) -> Grado en el que cumple con las expectativas y necesidades de los clientes. | C13: ='Puntuación Proyectos'!C24 -> 0 | D13: ='Puntuación Proyectos'!D24 -> 3 | E13: =IFERROR(VLOOKUP('Puntuación Proyectos'!E24,pick_benefits,2,FALSE)*$D13,"") -> 4.5 | F13: =IFERROR(VLOOKUP('Puntuación Proyectos'!F24,pick_benefits,2,FALSE)*$D13,"") -> 4.5 | G13: =IFERROR(VLOOKUP('Puntuación Proyectos'!G24,pick_benefits,2,FALSE)*$D13,"") -> 4.5 | H13: =IFERROR(VLOOKUP('Puntuación Proyectos'!H24,pick_benefits,2,FALSE)*$D13,"") -> 0 | I13: =IFERROR(VLOOKUP('Puntuación Proyectos'!I24,pick_benefits,2,FALSE)*$D13,"") -> 4.5 | J13: =IFERROR(VLOOKUP('Puntuación Proyectos'!J24,pick_benefits,2,FALSE)*$D13,"") -> 4.5 | K13: =IFERROR(VLOOKUP('Puntuación Proyectos'!K24,pick_benefits,2,FALSE)*$D13,"") -> 0 | L13: =IFERROR(VLOOKUP('Puntuación Proyectos'!L24,pick_benefits,2,FALSE)*$D13,"") -> 0 | ... CW13: =IFERROR(VLOOKUP('Puntuación Proyectos'!CW24,pick_benefits,2,FALSE)*$D13,"")
B14: =IF('Puntuación Proyectos'!B25="","",'Puntuación Proyectos'!B25) -> Grado en el que mejora la productividad organizacional | C14: ='Puntuación Proyectos'!C25 -> 0 | D14: ='Puntuación Proyectos'!D25 -> 3 | E14: =IFERROR(VLOOKUP('Puntuación Proyectos'!E25,pick_benefits,2,FALSE)*$D14,"") -> 4.5 | F14: =IFERROR(VLOOKUP('Puntuación Proyectos'!F25,pick_benefits,2,FALSE)*$D14,"") -> 4.5 | G14: =IFERROR(VLOOKUP('Puntuación Proyectos'!G25,pick_benefits,2,FALSE)*$D14,"") -> 4.5 | H14: =IFERROR(VLOOKUP('Puntuación Proyectos'!H25,pick_benefits,2,FALSE)*$D14,"") -> 4.5 | I14: =IFERROR(VLOOKUP('Puntuación Proyectos'!I25,pick_benefits,2,FALSE)*$D14,"") -> 0 | J14: =IFERROR(VLOOKUP('Puntuación Proyectos'!J25,pick_benefits,2,FALSE)*$D14,"") -> 4.5 | K14: =IFERROR(VLOOKUP('Puntuación Proyectos'!K25,pick_benefits,2,FALSE)*$D14,"") -> 4.5 | L14: =IFERROR(VLOOKUP('Puntuación Proyectos'!L25,pick_benefits,2,FALSE)*$D14,"") -> -4.5 | ... CW14: =IFERROR(VLOOKUP('Puntuación Proyectos'!CW25,pick_benefits,2,FALSE)*$D14,"")
B15: =IF('Puntuación Proyectos'!B26="","",'Puntuación Proyectos'!B26) -> Grado en el que reduce costos y gastos | C15: ='Puntuación Proyectos'!C30 -> 0 | D15: ='Puntuación Proyectos'!D26 -> 2 | E15: =IFERROR(VLOOKUP('Puntuación Proyectos'!E26,pick_benefits,2,FALSE)*$D15,"") -> 3 | F15: =IFERROR(VLOOKUP('Puntuación Proyectos'!F26,pick_benefits,2,FALSE)*$D15,"") -> 3 | G15: =IFERROR(VLOOKUP('Puntuación Proyectos'!G26,pick_benefits,2,FALSE)*$D15,"") -> -3 | H15: =IFERROR(VLOOKUP('Puntuación Proyectos'!H26,pick_benefits,2,FALSE)*$D15,"") -> 3 | I15: =IFERROR(VLOOKUP('Puntuación Proyectos'!I26,pick_benefits,2,FALSE)*$D15,"") -> 0 | J15: =IFERROR(VLOOKUP('Puntuación Proyectos'!J26,pick_benefits,2,FALSE)*$D15,"") -> 3 | K15: =IFERROR(VLOOKUP('Puntuación Proyectos'!K26,pick_benefits,2,FALSE)*$D15,"") -> 3 | L15: =IFERROR(VLOOKUP('Puntuación Proyectos'!L26,pick_benefits,2,FALSE)*$D15,"") -> 0 | ... CW15: =IFERROR(VLOOKUP('Puntuación Proyectos'!CW26,pick_benefits,2,FALSE)*$D15,"")
B16: =IF('Puntuación Proyectos'!B27="","",'Puntuación Proyectos'!B27) -> Nivel de beneficio para colaborares y grupos de interés | C16: ='Puntuación Proyectos'!C31 -> 0 | D16: ='Puntuación Proyectos'!D27 -> 1 | E16: =IFERROR(VLOOKUP('Puntuación Proyectos'!E27,pick_benefits,2,FALSE)*$D16,"") -> 1.5 | F16: =IFERROR(VLOOKUP('Puntuación Proyectos'!F27,pick_benefits,2,FALSE)*$D16,"") -> 1.5 | G16: =IFERROR(VLOOKUP('Puntuación Proyectos'!G27,pick_benefits,2,FALSE)*$D16,"") -> 1.5 | H16: =IFERROR(VLOOKUP('Puntuación Proyectos'!H27,pick_benefits,2,FALSE)*$D16,"") -> 0 | I16: =IFERROR(VLOOKUP('Puntuación Proyectos'!I27,pick_benefits,2,FALSE)*$D16,"") -> 0 | J16: =IFERROR(VLOOKUP('Puntuación Proyectos'!J27,pick_benefits,2,FALSE)*$D16,"") -> 1.5 | K16: =IFERROR(VLOOKUP('Puntuación Proyectos'!K27,pick_benefits,2,FALSE)*$D16,"") -> 1.5 | L16: =IFERROR(VLOOKUP('Puntuación Proyectos'!L27,pick_benefits,2,FALSE)*$D16,"") -> -1.5 | ... CW16: =IFERROR(VLOOKUP('Puntuación Proyectos'!CW27,pick_benefits,2,FALSE)*$D16,"")
B17: =IF('Puntuación Proyectos'!B32="","",'Puntuación Proyectos'!B32) -> Facilidad de Ejecución
B18: =IF('Puntuación Proyectos'!B33="","",'Puntuación Proyectos'!B33) -> Complejidad en la reingeniería y/o creación de los procesos de negocio | C18: ='Puntuación Proyectos'!C33 -> 0 | D18: ='Puntuación Proyectos'!D33 -> 3 | E18: =IFERROR(VLOOKUP('Puntuación Proyectos'!E33,pick_ease,2,FALSE)*$D18,"") -> 0 | F18: =IFERROR(VLOOKUP('Puntuación Proyectos'!F33,pick_ease,2,FALSE)*$D18,"") -> 0 | G18: =IFERROR(VLOOKUP('Puntuación Proyectos'!G33,pick_ease,2,FALSE)*$D18,"") -> 4.5 | H18: =IFERROR(VLOOKUP('Puntuación Proyectos'!H33,pick_ease,2,FALSE)*$D18,"") -> 4.5 | I18: =IFERROR(VLOOKUP('Puntuación Proyectos'!I33,pick_ease,2,FALSE)*$D18,"") -> 4.5 | J18: =IFERROR(VLOOKUP('Puntuación Proyectos'!J33,pick_ease,2,FALSE)*$D18,"") -> -4.5 | K18: =IFERROR(VLOOKUP('Puntuación Proyectos'!K33,pick_ease,2,FALSE)*$D18,"") -> -4.5 | L18: =IFERROR(VLOOKUP('Puntuación Proyectos'!L33,pick_ease,2,FALSE)*$D18,"") -> 4.5 | ... CW18: =IFERROR(VLOOKUP('Puntuación Proyectos'!CW33,pick_ease,2,FALSE)*$D18,"")
B19: =IF('Puntuación Proyectos'!B34="","",'Puntuación Proyectos'!B34) -> Facilidad para asegurar el presupuesto y los recursos para la transformación digital | C19: ='Puntuación Proyectos'!C38 -> 0 | D19: ='Puntuación Proyectos'!D34 -> 2 | E19: =IFERROR(VLOOKUP('Puntuación Proyectos'!E34,pick_ease,2,FALSE)*$D19,"") -> 0 | F19: =IFERROR(VLOOKUP('Puntuación Proyectos'!F34,pick_ease,2,FALSE)*$D19,"") -> 3 | G19: =IFERROR(VLOOKUP('Puntuación Proyectos'!G34,pick_ease,2,FALSE)*$D19,"") -> 3 | H19: =IFERROR(VLOOKUP('Puntuación Proyectos'!H34,pick_ease,2,FALSE)*$D19,"") -> 3 | I19: =IFERROR(VLOOKUP('Puntuación Proyectos'!I34,pick_ease,2,FALSE)*$D19,"") -> 0 | J19: =IFERROR(VLOOKUP('Puntuación Proyectos'!J34,pick_ease,2,FALSE)*$D19,"") -> 0 | K19: =IFERROR(VLOOKUP('Puntuación Proyectos'!K34,pick_ease,2,FALSE)*$D19,"") -> -3 | L19: =IFERROR(VLOOKUP('Puntuación Proyectos'!L34,pick_ease,2,FALSE)*$D19,"") -> 0 | ... CW19: =IFERROR(VLOOKUP('Puntuación Proyectos'!CW34,pick_ease,2,FALSE)*$D19,"")
B20: =IF('Puntuación Proyectos'!B35="","",'Puntuación Proyectos'!B35) -> Facilidad para asegurar las competencias y habilidades de los colaboradores | C20: ='Puntuación Proyectos'!C39 -> 0 | D20: ='Puntuación Proyectos'!D35 -> 2 | E20: =IFERROR(VLOOKUP('Puntuación Proyectos'!E35,pick_ease,2,FALSE)*$D20,"") -> 3 | F20: =IFERROR(VLOOKUP('Puntuación Proyectos'!F35,pick_ease,2,FALSE)*$D20,"") -> 3 | G20: =IFERROR(VLOOKUP('Puntuación Proyectos'!G35,pick_ease,2,FALSE)*$D20,"") -> 3 | H20: =IFERROR(VLOOKUP('Puntuación Proyectos'!H35,pick_ease,2,FALSE)*$D20,"") -> 3 | I20: =IFERROR(VLOOKUP('Puntuación Proyectos'!I35,pick_ease,2,FALSE)*$D20,"") -> 3 | J20: =IFERROR(VLOOKUP('Puntuación Proyectos'!J35,pick_ease,2,FALSE)*$D20,"") -> 0 | K20: =IFERROR(VLOOKUP('Puntuación Proyectos'!K35,pick_ease,2,FALSE)*$D20,"") -> 0 | L20: =IFERROR(VLOOKUP('Puntuación Proyectos'!L35,pick_ease,2,FALSE)*$D20,"") -> 3 | ... CW20: =IFERROR(VLOOKUP('Puntuación Proyectos'!CW35,pick_ease,2,FALSE)*$D20,"")
B21: =IF('Puntuación Proyectos'!B36="","",'Puntuación Proyectos'!B36) -> Gestión de cambio necesaria para garantizar el compromiso de los colaboradores | C21: ='Puntuación Proyectos'!C40 -> 0 | D21: ='Puntuación Proyectos'!D36 -> 2 | E21: =IFERROR(VLOOKUP('Puntuación Proyectos'!E36,pick_ease,2,FALSE)*$D21,"") -> 3 | F21: =IFERROR(VLOOKUP('Puntuación Proyectos'!F36,pick_ease,2,FALSE)*$D21,"") -> 0 | G21: =IFERROR(VLOOKUP('Puntuación Proyectos'!G36,pick_ease,2,FALSE)*$D21,"") -> 3 | H21: =IFERROR(VLOOKUP('Puntuación Proyectos'!H36,pick_ease,2,FALSE)*$D21,"") -> 3 | I21: =IFERROR(VLOOKUP('Puntuación Proyectos'!I36,pick_ease,2,FALSE)*$D21,"") -> 0 | J21: =IFERROR(VLOOKUP('Puntuación Proyectos'!J36,pick_ease,2,FALSE)*$D21,"") -> 3 | K21: =IFERROR(VLOOKUP('Puntuación Proyectos'!K36,pick_ease,2,FALSE)*$D21,"") -> -3 | L21: =IFERROR(VLOOKUP('Puntuación Proyectos'!L36,pick_ease,2,FALSE)*$D21,"") -> 3 | ... CW21: =IFERROR(VLOOKUP('Puntuación Proyectos'!CW36,pick_ease,2,FALSE)*$D21,"")
B22: =IF('Puntuación Proyectos'!B37="","",'Puntuación Proyectos'!B37) -> Respaldar la preparación de la infraestructura y los sistemas (TIC's) | C22: ='Puntuación Proyectos'!C41 -> 0 | D22: ='Puntuación Proyectos'!D37 -> 3 | E22: =IFERROR(VLOOKUP('Puntuación Proyectos'!E37,pick_ease,2,FALSE)*$D22,"") -> 4.5 | F22: =IFERROR(VLOOKUP('Puntuación Proyectos'!F37,pick_ease,2,FALSE)*$D22,"") -> 0 | G22: =IFERROR(VLOOKUP('Puntuación Proyectos'!G37,pick_ease,2,FALSE)*$D22,"") -> 0 | H22: =IFERROR(VLOOKUP('Puntuación Proyectos'!H37,pick_ease,2,FALSE)*$D22,"") -> 0 | I22: =IFERROR(VLOOKUP('Puntuación Proyectos'!I37,pick_ease,2,FALSE)*$D22,"") -> 0 | J22: =IFERROR(VLOOKUP('Puntuación Proyectos'!J37,pick_ease,2,FALSE)*$D22,"") -> 0 | K22: =IFERROR(VLOOKUP('Puntuación Proyectos'!K37,pick_ease,2,FALSE)*$D22,"") -> 0 | L22: =IFERROR(VLOOKUP('Puntuación Proyectos'!L37,pick_ease,2,FALSE)*$D22,"") -> 4.5 | ... CW22: =IFERROR(VLOOKUP('Puntuación Proyectos'!CW37,pick_ease,2,FALSE)*$D22,"")
B23: =IF('Puntuación Proyectos'!B38="","",'Puntuación Proyectos'!B38) -> Facilidad para trabajar varios proyectos interdependientes a la vez | C23: ='Puntuación Proyectos'!C38 -> 0 | D23: ='Puntuación Proyectos'!D38 -> 2 | E23: =IFERROR(VLOOKUP('Puntuación Proyectos'!E38,pick_ease,2,FALSE)*$D23,"") -> 0 | F23: =IFERROR(VLOOKUP('Puntuación Proyectos'!F38,pick_ease,2,FALSE)*$D23,"") -> -3 | G23: =IFERROR(VLOOKUP('Puntuación Proyectos'!G38,pick_ease,2,FALSE)*$D23,"") -> 0 | H23: =IFERROR(VLOOKUP('Puntuación Proyectos'!H38,pick_ease,2,FALSE)*$D23,"") -> 3 | I23: =IFERROR(VLOOKUP('Puntuación Proyectos'!I38,pick_ease,2,FALSE)*$D23,"") -> 3 | J23: =IFERROR(VLOOKUP('Puntuación Proyectos'!J38,pick_ease,2,FALSE)*$D23,"") -> -3 | K23: =IFERROR(VLOOKUP('Puntuación Proyectos'!K38,pick_ease,2,FALSE)*$D23,"") -> -3 | L23: =IFERROR(VLOOKUP('Puntuación Proyectos'!L38,pick_ease,2,FALSE)*$D23,"") -> 3 | ... CW23: =IFERROR(VLOOKUP('Puntuación Proyectos'!CW38,pick_ease,2,FALSE)*$D23,"")
B24: =IF('Puntuación Proyectos'!B41="","",'Puntuación Proyectos'!B41) -> Riesgo
B25: =IF('Puntuación Proyectos'!B42="","",'Puntuación Proyectos'!B42) -> Operacional: Impacto negativo en las operaciones diarias | C25: ='Puntuación Proyectos'!C43 -> 0 | D25: ='Puntuación Proyectos'!D42 -> 2 | E25: =IFERROR(VLOOKUP('Puntuación Proyectos'!E42,pick_risk,2,FALSE)*$D25,"") -> 3 | F25: =IFERROR(VLOOKUP('Puntuación Proyectos'!F42,pick_risk,2,FALSE)*$D25,"") -> 1 | G25: =IFERROR(VLOOKUP('Puntuación Proyectos'!G42,pick_risk,2,FALSE)*$D25,"") -> 3 | H25: =IFERROR(VLOOKUP('Puntuación Proyectos'!H42,pick_risk,2,FALSE)*$D25,"") -> 1 | I25: =IFERROR(VLOOKUP('Puntuación Proyectos'!I42,pick_risk,2,FALSE)*$D25,"") -> 1 | J25: =IFERROR(VLOOKUP('Puntuación Proyectos'!J42,pick_risk,2,FALSE)*$D25,"") -> 3 | K25: =IFERROR(VLOOKUP('Puntuación Proyectos'!K42,pick_risk,2,FALSE)*$D25,"") -> 3 | L25: =IFERROR(VLOOKUP('Puntuación Proyectos'!L42,pick_risk,2,FALSE)*$D25,"") -> 1 | ... CW25: =IFERROR(VLOOKUP('Puntuación Proyectos'!CW42,pick_risk,2,FALSE)*$D25,"")
B26: =IF('Puntuación Proyectos'!B44="","",'Puntuación Proyectos'!B44) -> Reputacional: No aceptado por la organización, falla o no cumple con sus KPI's | C26: ='Puntuación Proyectos'!C47 -> 0 | D26: ='Puntuación Proyectos'!D44 -> 3 | E26: =IFERROR(VLOOKUP('Puntuación Proyectos'!E44,pick_risk,2,FALSE)*$D26,"") -> 3 | F26: =IFERROR(VLOOKUP('Puntuación Proyectos'!F44,pick_risk,2,FALSE)*$D26,"") -> 3 | G26: =IFERROR(VLOOKUP('Puntuación Proyectos'!G44,pick_risk,2,FALSE)*$D26,"") -> 4.5 | H26: =IFERROR(VLOOKUP('Puntuación Proyectos'!H44,pick_risk,2,FALSE)*$D26,"") -> 3 | I26: =IFERROR(VLOOKUP('Puntuación Proyectos'!I44,pick_risk,2,FALSE)*$D26,"") -> 4.5 | J26: =IFERROR(VLOOKUP('Puntuación Proyectos'!J44,pick_risk,2,FALSE)*$D26,"") -> 4.5 | K26: =IFERROR(VLOOKUP('Puntuación Proyectos'!K44,pick_risk,2,FALSE)*$D26,"") -> 3 | L26: =IFERROR(VLOOKUP('Puntuación Proyectos'!L44,pick_risk,2,FALSE)*$D26,"") -> 3 | ... CW26: =IFERROR(VLOOKUP('Puntuación Proyectos'!CW44,pick_risk,2,FALSE)*$D26,"")
B27: =IF('Puntuación Proyectos'!B45="","",'Puntuación Proyectos'!B45) -> Financiero: Costo del capital y/o gasto operacional | C27: ='Puntuación Proyectos'!C48 -> 0 | D27: ='Puntuación Proyectos'!D45 -> 3 | E27: =IFERROR(VLOOKUP('Puntuación Proyectos'!E45,pick_risk,2,FALSE)*$D27,"") -> 1.5 | F27: =IFERROR(VLOOKUP('Puntuación Proyectos'!F45,pick_risk,2,FALSE)*$D27,"") -> 1.5 | G27: =IFERROR(VLOOKUP('Puntuación Proyectos'!G45,pick_risk,2,FALSE)*$D27,"") -> 1.5 | H27: =IFERROR(VLOOKUP('Puntuación Proyectos'!H45,pick_risk,2,FALSE)*$D27,"") -> 1.5 | I27: =IFERROR(VLOOKUP('Puntuación Proyectos'!I45,pick_risk,2,FALSE)*$D27,"") -> 1.5 | J27: =IFERROR(VLOOKUP('Puntuación Proyectos'!J45,pick_risk,2,FALSE)*$D27,"") -> 1.5 | K27: =IFERROR(VLOOKUP('Puntuación Proyectos'!K45,pick_risk,2,FALSE)*$D27,"") -> 3 | L27: =IFERROR(VLOOKUP('Puntuación Proyectos'!L45,pick_risk,2,FALSE)*$D27,"") -> 1.5 | ... CW27: =IFERROR(VLOOKUP('Puntuación Proyectos'!CW45,pick_risk,2,FALSE)*$D27,"")
B28: =IF('Puntuación Proyectos'!B46="","",'Puntuación Proyectos'!B46) -> Organizacional: Riesgo para el gobierno y la gestión interna | C28: ='Puntuación Proyectos'!C49 -> 0 | D28: ='Puntuación Proyectos'!D46 -> 2 | E28: =IFERROR(VLOOKUP('Puntuación Proyectos'!E46,pick_risk,2,FALSE)*$D28,"") -> 1 | F28: =IFERROR(VLOOKUP('Puntuación Proyectos'!F46,pick_risk,2,FALSE)*$D28,"") -> 1 | G28: =IFERROR(VLOOKUP('Puntuación Proyectos'!G46,pick_risk,2,FALSE)*$D28,"") -> 1 | H28: =IFERROR(VLOOKUP('Puntuación Proyectos'!H46,pick_risk,2,FALSE)*$D28,"") -> 1 | I28: =IFERROR(VLOOKUP('Puntuación Proyectos'!I46,pick_risk,2,FALSE)*$D28,"") -> 1 | J28: =IFERROR(VLOOKUP('Puntuación Proyectos'!J46,pick_risk,2,FALSE)*$D28,"") -> 2 | K28: =IFERROR(VLOOKUP('Puntuación Proyectos'!K46,pick_risk,2,FALSE)*$D28,"") -> 2 | L28: =IFERROR(VLOOKUP('Puntuación Proyectos'!L46,pick_risk,2,FALSE)*$D28,"") -> 1 | ... CW28: =IFERROR(VLOOKUP('Puntuación Proyectos'!CW46,pick_risk,2,FALSE)*$D28,"")
B29: =IF('Puntuación Proyectos'!B43="","",'Puntuación Proyectos'!B43) -> Resultados del proyecto: Consecuencias inciertas y éxito difícil de medir | C29: ='Puntuación Proyectos'!C43 -> 0 | D29: 1 | E29: =IFERROR(VLOOKUP('Puntuación Proyectos'!E43,pick_risk,2,FALSE)*$D29,"") -> 1 | F29: =IFERROR(VLOOKUP('Puntuación Proyectos'!F43,pick_risk,2,FALSE)*$D29,"") -> 0.5 | G29: =IFERROR(VLOOKUP('Puntuación Proyectos'!G43,pick_risk,2,FALSE)*$D29,"") -> 1 | H29: =IFERROR(VLOOKUP('Puntuación Proyectos'!H43,pick_risk,2,FALSE)*$D29,"") -> 0.5 | I29: =IFERROR(VLOOKUP('Puntuación Proyectos'!I43,pick_risk,2,FALSE)*$D29,"") -> 1.5 | J29: =IFERROR(VLOOKUP('Puntuación Proyectos'!J43,pick_risk,2,FALSE)*$D29,"") -> 0.5 | K29: =IFERROR(VLOOKUP('Puntuación Proyectos'!K43,pick_risk,2,FALSE)*$D29,"") -> 1.5 | L29: =IFERROR(VLOOKUP('Puntuación Proyectos'!L43,pick_risk,2,FALSE)*$D29,"") -> 0.5 | ... CW29: =IFERROR(VLOOKUP('Puntuación Proyectos'!CW43,pick_risk,2,FALSE)*$D29,"")
B30: Suma Mandatorio (Igual a 0 = Positivo; Mayor a 0 = Negativo) | E30: =SUM(E4:E7) -> 0 | F30: =SUM(F4:F7) -> 0 | G30: =SUM(G4:G7) -> 0 | H30: =SUM(H4:H7) -> 0 | I30: =SUM(I4:I7) -> 0 | J30: =SUM(J4:J7) -> 0 | K30: =SUM(K4:K7) -> 0 | L30: =SUM(L4:L7) -> 0 | ... CW30: =SUM(CW4:CW7) -> 0
B31: =IF('Puntuación Proyectos'!C51="","",'Puntuación Proyectos'!C51) | D31: =IF('Puntuación Proyectos'!D51="","",'Puntuación Proyectos'!D51)
B32: ='Puntuación Proyectos'!B52 -> Costo | E32: =SUM(E9:E11) -> 1.5 | F32: =SUM(F9:F11) -> -1.5 | G32: =SUM(G9:G11) -> 1.5 | H32: =SUM(H9:H11) -> 1.5 | I32: =SUM(I9:I11) -> 0 | J32: =SUM(J9:J11) -> -1.5 | K32: =SUM(K9:K11) -> -3 | L32: =SUM(L9:L11) -> 0 | ... CW32: =SUM(CW9:CW11) -> 0
B34: ='Puntuación Proyectos'!B54 -> Beneficio | E34: =(SUM(E13:E16)) -> 13.5 | F34: =(SUM(F13:F16)) -> 13.5 | G34: =(SUM(G13:G16)) -> 7.5 | H34: =(SUM(H13:H16)) -> 7.5 | I34: =(SUM(I13:I16)) -> 4.5 | J34: =(SUM(J13:J16)) -> 13.5 | K34: =(SUM(K13:K16)) -> 9 | L34: =(SUM(L13:L16)) -> -6 | ... W34: =(SUM(W13:W16)) -> 0 | X34: =SUM(X13:X16) -> 0 | Y34: =SUM(Y13:Y16) -> 0 | Z34: =SUM(Z13:Z16) -> 0 | AA34: =SUM(AA13:AA16) -> 0 | AB34: =SUM(AB13:AB16) -> 0 | AC34: =SUM(AC13:AC16) -> 0 | AD34: =SUM(AD13:AD16) -> 0 | AE34: =SUM(AE13:AE16) -> 0 | ... CW34: =SUM(CW13:CW16) -> 0
B35: ='Puntuación Proyectos'!B55 -> Facilidad de Ejecución | E35: =SUM(E18:E23) -> 10.5 | F35: =SUM(F18:F23) -> 3 | G35: =SUM(G18:G23) -> 13.5 | H35: =SUM(H18:H23) -> 16.5 | I35: =SUM(I18:I23) -> 10.5 | J35: =SUM(J18:J23) -> -4.5 | K35: =SUM(K18:K23) -> -13.5 | L35: =SUM(L18:L23) -> 18 | ... CW35: =SUM(CW18:CW23) -> 0
B36: ='Puntuación Proyectos'!B56 -> Nivel de Riesgo | E36: =SUM(E25:E29) -> 9.5 | F36: =SUM(F25:F29) -> 7 | G36: =SUM(G25:G29) -> 11 | H36: =SUM(H25:H29) -> 7 | I36: =SUM(I25:I29) -> 9.5 | J36: =SUM(J25:J29) -> 11.5 | K36: =SUM(K25:K29) -> 12.5 | L36: =SUM(L25:L29) -> 7 | ... CW36: =SUM(CW25:CW29) -> 0
B37: =IF('Puntuación Proyectos'!B57="","",'Puntuación Proyectos'!B57) -> Total Evaluación de Proyectos = (costo+beneficio+ejecución) - riesgo | E37: =E32+E34+E35-E36 -> 16 | F37: =F32+F34+F35-F36 -> 8 | G37: =G32+G34+G35-G36 -> 11.5 | H37: =H32+H34+H35-H36 -> 18.5 | I37: =I32+I34+I35-I36 -> 5.5 | J37: =J32+J34+J35-J36 -> -4 | K37: =K32+K34+K35-K36 -> -20 | L37: =L32+L34+L35-L36 -> 5 | ... Y37: =Y32+Y34+Y35-Y36 -> 0 | Z37: =Z34+Z35+Z36 -> 0 | AA37: =AA34+AA35+AA36 -> 0 | AB37: =AB34+AB35+AB36 -> 0 | AC37: =AC34+AC35+AC36 -> 0 | AD37: =AD34+AD35+AD36 -> 0 | AE37: =AE34+AE35+AE36 -> 0 | AF37: =AF34+AF35+AF36 -> 0 | AG37: =AG34+AG35+AG36 -> 0 | ... CW37: =CW34+CW35+CW36 -> 0

Sheet Lista Selección
C3: Grupo de Evaluación | E3: Etiqueta | F3: Valor
C5: Mandatorio | D5: 1 | E5: NO | F5: 1
C6: pick_man | D6: 2 | E6: Si | F6: 0
D7: 3
D8: 4
D9: 5
D10: 6
D11: 7
D12: 8
C14: Costo
C15: pick_cost | D15: 1 | E15: Bajo | F15: 1.5
D16: 2 | E16: Medio | F16: 0
D17: 3 | E17: Alto | F17: -1.5
D18: 4
D19: 5
D20: 6
D21: 7
D22: 8
C24: Beneficios
C25: pick_benefits | D25: 1 | E25: Bajo | F25: -1.5
D26: 2 | E26: Medio | F26: 0
D27: 3 | E27: Alto | F27: 1.5
D28: 4
D29: 5
D30: 6
D31: 7
D32: 8
C35: Facilidad de Ejecución | D35: 1 | E35: Fácil | F35: 1.5
C36: pick_ease | D36: 2 | E36: Media | F36: 0
D37: 3 | E37: Difícil | F37: -1.5
D38: 4
D39: 5
D40: 6
D41: 7
D42: 8
C45: Riesgo | D45: 1 | E45: Alto | F45: 1.5
C46: pick_risk | D46: 2 | E46: Medio | F46: 1
D47: 3 | E47: Bajo | F47: 0.5
D48: 4
D49: 5
...

Sheet Hoja de Trabajo
A1: Iniciativa | B1: ='Puntuación Proyectos'!E3 -> Proyecto 1 | C1: ='Puntuación Proyectos'!F3 -> Proyecto 2 | D1: ='Puntuación Proyectos'!G3 -> Proyecto 3 | E1: ='Puntuación Proyectos'!H3 -> Proyecto 4 | F1: ='Puntuación Proyectos'!I3 -> Proyecto 5 | G1: ='Puntuación Proyectos'!J3 -> Proyecto 6 | H1: ='Puntuación Proyectos'!K3 -> Proyecto 7 | I1: ='Puntuación Proyectos'!L3 -> Proyecto 8 | ... BE1: ='Puntuación Proyectos'!BH3 -> 0
A2: Categoría | B2: ='Puntuación Proyectos'!E4 -> 0 | C2: ='Puntuación Proyectos'!F4 -> 0 | D2: ='Puntuación Proyectos'!G4 -> 0 | E2: ='Puntuación Proyectos'!H4 -> 0 | F2: ='Puntuación Proyectos'!I4 -> 0 | G2: ='Puntuación Proyectos'!J4 -> 0 | H2: ='Puntuación Proyectos'!K4 -> 0 | I2: ='Puntuación Proyectos'!L4 -> 0 | ... BE2: ='Puntuación Proyectos'!BH4 -> 0
A3: ='Puntuación Proyectos'!B52 -> Costo | B3: ='Puntuación Proyectos'!E52 -> 1.5 | C3: ='Puntuación Proyectos'!F52 -> -1.5 | D3: ='Puntuación Proyectos'!G52 -> 1.5 | E3: ='Puntuación Proyectos'!H52 -> 1.5 | F3: ='Puntuación Proyectos'!I52 -> 0 | G3: ='Puntuación Proyectos'!J52 -> -1.5 | H3: ='Puntuación Proyectos'!K52 -> -3 | I3: ='Puntuación Proyectos'!L52 -> 0 | ... BE3: ='Puntuación Proyectos'!BH52 -> 0
A4: ='Puntuación Proyectos'!B54 -> Beneficio | B4: ='Puntuación Proyectos'!E54 -> 13.5 | C4: ='Puntuación Proyectos'!F54 -> 13.5 | D4: ='Puntuación Proyectos'!G54 -> 7.5 | E4: ='Puntuación Proyectos'!H54 -> 7.5 | F4: ='Puntuación Proyectos'!I54 -> 4.5 | G4: ='Puntuación Proyectos'!J54 -> 13.5 | H4: ='Puntuación Proyectos'!K54 -> 9 | I4: ='Puntuación Proyectos'!L54 -> -6 | ... BE4: ='Puntuación Proyectos'!BH54 -> 0
A5: ='Puntuación Proyectos'!B55 -> Facilidad de Ejecución | B5: ='Puntuación Proyectos'!E55 -> 10.5 | C5: ='Puntuación Proyectos'!F55 -> 3 | D5: ='Puntuación Proyectos'!G55 -> 13.5 | E5: ='Puntuación Proyectos'!H55 -> 16.5 | F5: ='Puntuación Proyectos'!I55 -> 10.5 | G5: ='Puntuación Proyectos'!J55 -> -4.5 | H5: ='Puntuación Proyectos'!K55 -> -13.5 | I5: ='Puntuación Proyectos'!L55 -> 18 | ... BE5: ='Puntuación Proyectos'!BH55 -> 0
A6: ='Puntuación Proyectos'!B56 -> Nivel de Riesgo | B6: ='Puntuación Proyectos'!E56 -> 9.5 | C6: ='Puntuación Proyectos'!F56 -> 7 | D6: ='Puntuación Proyectos'!G56 -> 11 | E6: ='Puntuación Proyectos'!H56 -> 7 | F6: ='Puntuación Proyectos'!I56 -> 9.5 | G6: ='Puntuación Proyectos'!J56 -> 11.5 | H6: ='Puntuación Proyectos'!K56 -> 12.5 | I6: ='Puntuación Proyectos'!L56 -> 7 | ... BE6: ='Puntuación Proyectos'!BH56 -> 0
A7: ='Puntuación Proyectos'!B57 -> Total Evaluación de Proyectos = (costo+beneficio+ejecución) - riesgo | B7: ='Puntuación Proyectos'!E57 -> 16 | C7: ='Puntuación Proyectos'!F57 -> 8 | D7: ='Puntuación Proyectos'!G57 -> 11.5 | E7: ='Puntuación Proyectos'!H57 -> 18.5 | F7: ='Puntuación Proyectos'!I57 -> 5.5 | G7: ='Puntuación Proyectos'!J57 -> -4 | H7: ='Puntuación Proyectos'!K57 -> -20 | I7: ='Puntuación Proyectos'!L57 -> 5 | ... BE7: ='Puntuación Proyectos'!BH57 -> 0
