Workbook
Name _GRA1: #REF!
Name _GRA2: #REF!
Name _mes2: #REF!
Name _mes3: #REF!
Name _one1: #REF!
Name _uno1: #REF!
Name AccountsReceivable_MY: [1]MultiYear!$H$123:$R$123
Name AcctsReceivable: [1]Balance!$I$59
Name AFECTA: #REF!
Name AllocatedEquityCommon: [1]Valuation!$L$94
Name AllocatedEquityPreferred: [1]Valuation!$L$92
Name AMENAZARAS: [2]CÁLCULOS!$B$29:$B$30
Name amortizacion: #REF!
Name AmortizeTrademarks: [1]Income!$H$84
Name Annual_int: [1]Compounding!$F$58
Name Annuity_Int: [1]Compounding!$F$153
Name Annuity_Payment: [1]Compounding!$F$151
Name Annuity_Pds: [1]Compounding!$F$155
Name Annuity_Type: [1]Compounding!$F$157
Name ARRIBA2a6: #REF!
Name ARRIBA2E: #REF!
Name ARRIBA2F: #REF!
Name ARRIBA3A: #REF!
Name ARRIBA3B: #REF!
Name ARRIBAADL: #REF!
Name ARRIBADOSA: #REF!
Name ARRIBADUOSAAA: #REF!
Name ARRIBAEP: #REF!
Name ARRIBAMEFE: #REF!
Name ARRIBAPEST: #REF!
Name ARRIBAUNOBE: #REF!
Name ARRIBAUNOCE: #REF!
Name Block10Net: [1]Breakeven!$N$250
Name Block1Net: [1]Breakeven!$E$250
Name Block2Net: [1]Breakeven!$F$250
Name Block3Net: [1]Breakeven!$G$250
Name Block4Net: [1]Breakeven!$H$250
Name Block5Net: [1]Breakeven!$I$250
Name Block6Net: [1]Breakeven!$J$250
Name Block7Net: [1]Breakeven!$K$250
Name Block8Net: [1]Breakeven!$L$250
Name Block9Net: [1]Breakeven!$M$250
Name BlockSize: [1]Breakeven!$E$202
Name BookValueShareCommon: [1]Valuation!$L$98
Name BookValueSharePreferred: [1]Valuation!$L$97
Name BreakEvenQuantity: #REF!
Name BUSCARMES: #REF!
Name BUSCARMES: [2]sb!$E$13:$E$24
Name CAGR_Periods: [1]CAGR!$F$29
Name CAME: #REF!
Name carencia: #REF!
Name carenciaespecial: #REF!
Name Cash: [1]Balance!$I$55
Name cin: #REF!
Name CINCO: #REF!
Name Cmpd_Int: [1]Compounding!$F$28
Name CmpdPerYr: [1]Compounding!$F$75
Name CommonShares: [1]Income!$H$59
Name CommonShares_1_MY: [1]MultiYear!$H$64
Name CommonShares_MY: [1]MultiYear!$H$64:$R$64

Sheet Instrucciones
D3: Análisis Financiero para Proyecto de Implantación de IA en la Empresa
D4: Herramienta Creada por Néstor Altuve - © 2026 - info@nestoraltuve.com
D5: (Referencia utilizada: Hoja Excel de e.ditor 21 con ajustes de Néstor Altuve)
D7: Instrucciones:
D8: Esta herramienta contiene 7 Hojas: | F8: - | G8: En la Hoja #2 vaciar toda la información requerida: Egresos
D9: 1 | E9: Instrucciones | G9: previos a la generación de ingresos y posteriores a la generación
D10: 2 | E10: Egresos del Proyecto | G10: de ingresos
D11: 3 | E11: Ingresos del Proyecto | F11: - | G11: En la Hoja #3 vaciar toda la información requerida: Ingresos
D12: 4 | E12: VAN y TIR | G12: cuando ya el proyecto esté en ejecución
D13: 5 | E13: ROI Simple | F13: - | G13: En la Hoja #4 vaciar la información requerida: Tasa de descuento
D14: 6 | E14: Rentabilidad | G14: de los flujos necesaria para el cálculo del VAN y TIR
D15: 7 | E15: Payback | F15: - | G15: Se puede imprimir y/o PDF de cualquier Hoja

Sheet Egresos del Proyecto
C2: Proyecto de Implantación de IA | AX2: Egresos
F4: =+#REF! -> #REF!
D7: Componentes del Proyecto | I7: Años
D9: 1 | E9: Compensación Interna y Externa | I9: Inversión previa a la generación de ingresos | R9: Año 1 | AA9: Año 2 | AJ9: Año 3 | AS9: Año 4 | BB9: Año 5 | BK9: Total
D10: 1.1 | BK10: =SUM(I10:BJ10) -> 0
D11: 1.2 | BK11: =SUM(I11:BJ11) -> 0
D12: 1.3 | BK12: =SUM(I12:BJ12) -> 0
D13: 1.4 | BK13: =SUM(I13:BJ13) -> 0
D14: 1.5 | BK14: =SUM(I14:BJ14) -> 0
BB15: Total | BK15: =SUM(BK10:BS14) -> 0
D17: 2 | E17: Consultoría | I17: Inversión previa a la generación de ingresos | R17: Año 1 | AA17: Año 2 | AJ17: Año 3 | AS17: Año 4 | BB17: Año 5 | BK17: Total
D18: 2.1 | E18: Consultores Estrategia | I18: 1000000 | R18: 250000 | AA18: 200000 | AJ18: 150000 | AS18: 100000 | BB18: 50000 | BK18: =SUM(I18:BJ18) -> 1750000
D19: 2.2 | BK19: =SUM(I19:BJ19) -> 0
D20: 2.3 | BK20: =SUM(I20:BJ20) -> 0
D21: 2.4 | BK21: =SUM(I21:BJ21) -> 0
D22: 2.5 | BK22: =SUM(I22:BJ22) -> 0
BB23: Total | BK23: =SUM(BK18:BS22) -> 1750000
D25: 3 | E25: Formación | I25: Inversión previa a la generación de ingresos | R25: Año 1 | AA25: Año 2 | AJ25: Año 3 | AS25: Año 4 | BB25: Año 5 | BK25: Total
D26: 3.1 | BK26: =SUM(I26:BJ26) -> 0
D27: 3.2 | BK27: =SUM(I27:BJ27) -> 0
D28: 3.3 | BK28: =SUM(I28:BJ28) -> 0
D29: 3.4 | BK29: =SUM(I29:BJ29) -> 0
D30: 3.5 | BK30: =SUM(I30:BJ30) -> 0
BB31: Total | BK31: =SUM(BK26:BS30) -> 0
D33: 4 | E33: Licencias (plataforma y/o por usuarios, según sea el caso) | I33: Inversión previa a la generación de ingresos | R33: Año 1 | AA33: Año 2 | AJ33: Año 3 | AS33: Año 4 | BB33: Año 5 | BK33: Total
D34: 4.1 | BK34: =SUM(I34:BJ34) -> 0
D35: 4.2 | BK35: =SUM(I35:BJ35) -> 0
D36: 4.3 | BK36: =SUM(I36:BJ36) -> 0
D37: 4.4 | BK37: =SUM(I37:BJ37) -> 0
D38: 4.5 | BK38: =SUM(I38:BJ38) -> 0
BB39: Total | BK39: =SUM(BK34:BS38) -> 0
D41: 5 | E41: Soporte y Mantenimiento (implementación, soporte y estabilización) | I41: Inversión previa a la generación de ingresos | R41: Año 1 | AA41: Año 2 | AJ41: Año 3 | AS41: Año 4 | BB41: Año 5 | BK41: Total
D42: 5.1 | BK42: =SUM(I42:BJ42) -> 0
D43: 5.2 | BK43: =SUM(I43:BJ43) -> 0
D44: 5.3 | BK44: =SUM(I44:BJ44) -> 0
D45: 5.4 | BK45: =SUM(I45:BJ45) -> 0
D46: 5.5 | BK46: =SUM(I46:BJ46) -> 0
BB47: Total | BK47: =SUM(BK42:BS46) -> 0
D49: 6 | E49: Implementación (módulos, solución completa, MVP's) | I49: Inversión previa a la generación de ingresos | R49: Año 1 | AA49: Año 2 | AJ49: Año 3 | AS49: Año 4 | BB49: Año 5 | BK49: Total
D50: 6.1 | BK50: =SUM(I50:BJ50) -> 0
...

Sheet Ingresos del Proyecto
C2: Proyecto de Implantación de IA | AO2: Ingresos
F4: =+#REF! -> #REF!
D7: Componentes del Proyecto | I7: Años
D9: 1 | E9: Principales | I9: Año 1 | R9: Año 2 | AA9: Año 3 | AJ9: Año 4 | AS9: Año 5 | BB9: Total
D10: 1.1 | E10: Por digitalización del negocio | I10: 400000 | R10: 450000 | AA10: 480000 | AJ10: 520000 | AS10: 550000 | BB10: =SUM(I10:BA10) -> 2400000
D11: 1.2 | BB11: =SUM(I11:BA11) -> 0
D12: 1.3 | BB12: =SUM(I12:BA12) -> 0
D13: 1.4 | BB13: =SUM(I13:BA13) -> 0
D14: 1.5 | BB14: =SUM(I14:BA14) -> 0
AS15: Total | BB15: =SUM(BB10:BJ14) -> 2400000
D17: 2 | E17: Otros (Incluir posibles ahorros como ingresos del proyecto) | I17: Año 1 | R17: Año 2 | AA17: Año 3 | AJ17: Año 4 | AS17: Año 5 | BB17: Total
D18: 2.1 | E18: Ahorros en automatización de procesos | I18: 25000 | R18: 22000 | AA18: 23500 | AJ18: 24000 | AS18: 21000 | BB18: =SUM(I18:BA18) -> 115500
D19: 2.2 | BB19: =SUM(I19:BA19) -> 0
D20: 2.3 | BB20: =SUM(I20:BA20) -> 0
D21: 2.4 | BB21: =SUM(I21:BA21) -> 0
D22: 2.5 | BB22: =SUM(I22:BA22) -> 0
AS23: Total | BB23: =SUM(BB18:BJ22) -> 115500
G26: IngresosTotales | I26: =SUM(I9:Q24) -> 425000 | R26: =SUM(R9:Z24) -> 472000 | AA26: =SUM(AA9:AI24) -> 503500 | AJ26: =SUM(AJ9:AR24) -> 544000 | AS26: =SUM(AS9:BA24) -> 571000 | BB26: =+BB15+BB23 -> 2515500

Sheet VAN y TIR
C2: CÁLCULO del VAN y la TIR
C4: Calcula el Valor Actual Neto (V.A.N.) y la Tasa Interna de Retorno (T.I.R.) (Referencia utilizada: Hoja Excel de e.ditor 21 con ajustes de Néstor Altuve)
C8: 1 | D8: Datos para el análisis
E10: importe
D11: Inversión | E11: =+'Egresos del Proyecto'!I129 -> 1000000 | F11: AÑOS
E13: Inversión | F13: 1 | G13: 2 | H13: 3 | I13: 4 | J13: 5
D14: Flujo de caja (neto anual) | E14: =-E11 -> -1000000 | F14: =+'Ingresos del Proyecto'!I26-'Egresos del Proyecto'!R129 -> 175000 | G14: =+'Ingresos del Proyecto'!R26-'Egresos del Proyecto'!AA129 -> 272000 | H14: =+'Ingresos del Proyecto'!AA26-'Egresos del Proyecto'!AJ129 -> 353500 | I14: =+'Ingresos del Proyecto'!AJ26-'Egresos del Proyecto'!AS129 -> 444000 | J14: =+'Ingresos del Proyecto'!AS26-'Egresos del Proyecto'!BB129 -> 521000
C16: 2 | D16: Cálculo del V.A.N. y la T.I.R.
E18: %
D19: Tasa de descuento | E19: 0.1 | F19: < Pon la tasa de descuento aquí
D21: V.A.N a cinco años | E21: =NPV($E$19,F14:J14)+E14 -> 276232.06 | F21: =IF(E11=0,0,IF(E19=0," Falta TASA",IF(E21>0," Valor positivo, inversión (en principio) factible"," Valor negativo, inversión (en principio) no recomendable."))) -> Valor positivo, inversión (en principio) factible
D23: T.I.R a cinco años | E23: =+B101 -> 0.18572918 | F23: =IF(E23="N/D"," < Valor no disponible",IF(E19=""," < Valor no disponible, faltan datos",IF(B100>E19," < Valor superior a la tasa, inversión (en principio) factible","Valor inferior a la tasa, inversión a analizar con detalle."))) -> < Valor superior a la tasa, inversión (en principio) factible
B100: =IF('VAN y TIR'!$E$11=0,0,IRR('VAN y TIR'!$E$14:$J$14)) -> 0.18572918
B101: =IF(ISERROR(B100),"N/D",B100) -> 0.18572918

Sheet Rentabilidad
C2: ÍNDICE de RENTABILIDAD
C4: Calcula el índice de rentabilidad del proyecto a 5 años (Referencia utilizada: Hoja Excel de e.ditor 21 con ajustes de Néstor Altuve)
D7: 1 | E7: Datos
F9: AÑOS O PERÍODOS
F10: 1 | G10: 2 | H10: 3 | I10: 4 | J10: 5
E11: Flujo Neto de Caja (FCN) | F11: =+'Ingresos del Proyecto'!I26-'Egresos del Proyecto'!R129 -> 175000 | G11: =+'Ingresos del Proyecto'!R26-'Egresos del Proyecto'!AA129 -> 272000 | H11: =+'Ingresos del Proyecto'!AA26-'Egresos del Proyecto'!AJ129 -> 353500 | I11: =+'Ingresos del Proyecto'!AJ26-'Egresos del Proyecto'!AS129 -> 444000 | J11: =+'Ingresos del Proyecto'!AS26-'Egresos del Proyecto'!BB129 -> 521000
E12: (FNC anual previsto)
E14: Inversión | F14: =+'Egresos del Proyecto'!I129 -> 1000000 | G14: ◄ Importe de la inversión
D16: 2 | E16: Cálculo del Índice de Rentabilidad (Acumulado en los años 2 al 5)
E18: I.R. 1 año | F18: =IF(F14=0,"",(F11)/$F$14) -> 0.175
E20: I.R. 2 años | F20: =IF(F14=0,"",(G11+F11)/$F$14) -> 0.447
E22: I.R. 3 años | F22: =IF(F14=0,"",(F11+G11+H11)/$F$14) -> 0.8005
E24: I.R. 4 años | F24: =IF(F14=0,"",(F11+G11+H11+I11)/$F$14) -> 1.2445
E26: I.R. 5 años | F26: =IF(F14=0,"",(F11+G11+H11+I11+J11)/$F$14) -> 1.7655

Sheet ROI Simple
C2: R.O.I. SIMPLE
D4: Calcula el Return On Investment (R.O.I.) o tasa de retorno del proyecto (Referencia utilizada: Hoja Excel de e.ditor 21 con ajustes de Néstor Altuve)
D7: 1 | E7: Cálculo del R.O.I. SIMPLE | J7: 2 | K7: información
E10: Ingresos netos producidos por el proyecto | H10: =+'Ingresos del Proyecto'!BB26 -> 2515500 | J10: ◄ Ingresos netos totales producidos
E12: Egresos netos (y/o importes invertidos) | H12: =+'Egresos del Proyecto'!BK129 -> 1750000 | J12: ◄ Egresos netos totales
E14: Retorno neto generado por el proyecto | H14: =+H10-H12 -> 765500 | J14: ◄ Beneficio neto generado por la inversión
E19: R.O.I. (Simple) | H19: =IF(H12=0,0,H14/H12) -> 0.43742857

Sheet Payback
C2: PAYBACK o PERÍODO de RETORNO (PRI)
C4: Calcula de forma simple el periodo de retorno del proyecto (Referencia utilizada: Hoja Excel de e.ditor 21 con ajustes de Néstor Altuve)
D7: 1 | E7: Datos
F9: AÑOS O PERÍODOS
F10: 1 | G10: 2 | H10: 3 | I10: 4 | J10: 5
E11: Flujo Neto de Caja | F11: =+'Ingresos del Proyecto'!I26-'Egresos del Proyecto'!R129 -> 175000 | G11: =+'Ingresos del Proyecto'!R26-'Egresos del Proyecto'!AA129 -> 272000 | H11: =+'Ingresos del Proyecto'!AA26-'Egresos del Proyecto'!AJ129 -> 353500 | I11: =+'Ingresos del Proyecto'!AJ26-'Egresos del Proyecto'!AS129 -> 444000 | J11: =+'Ingresos del Proyecto'!AS26-'Egresos del Proyecto'!BB129 -> 521000
E12: (FNC anual previsto)
E14: Inversión | F14: =+'Egresos del Proyecto'!I129 -> 1000000 | G14: ◄ Importe de la inversión
D16: 2 | E16: Payback o P.R.I.
E20: La inversión se "recuperará en su totalidad en el período:
E23: Payback o período de retorno del proyecto | H23: =IF(F14=0,0,IF(F11>=F14,F10,IF(F11+G11>=F14,G10,IF(H11+G11+F11>=F14,H10,IF(I11+H11+G11+F11>=F14,I10,IF(J11+I11+H11+G11+F11>=F14,J10,"NO RETORNO")))))) -> 4
